BEGIN:VCALENDAR
VERSION:2.0
METHOD:PUBLISH
X-WR-CALNAME:VFEK |  november 27 2010- november 27 2010
PRODID:-//strange bird labs//Drupal iCal API//EN
BEGIN:VEVENT
DTSTAMP;VALUE=DATE-TIME:20260420T073207Z
DTSTART;VALUE=DATE-TIME:20101028T150000Z
DTEND;VALUE=DATE-TIME:20101204T120000Z
UID:http://portal.vfmk.hu/011120101018_1
URL;VALUE=URI:http://portal.vfmk.hu/011120101018_1
SUMMARY:Harangozó Miklós festőművész kiállítása
DESCRIPTION:<p class=\\"rtecenter\\"><strong><span style=\\"font-size\: small\; \\"><span style=\\"font-family\: Verdana\; \\">A J&aacute\;sz-Nagykun-Szolnok Megyei<br />
 Verseghy Ferenc K&ouml\;nyvt&aacute\;r &eacute\;s Művelőd&eacute\;si Int&eacute\;zet</span></span></strong><span style=\\"font-size\: small\; \\"><span style=\\"font-family\: Verdana\; \\"><br />
 &eacute\;s a<br />
 <strong>M&uacute\;zeum Bar&aacute\;ti K&ouml\;re</strong> </span><strong><span style=\\"font-family\: Verdana\; \\">eln&ouml\;ks&eacute\;ge</span></strong></span></p>
 <p class=\\"rtecenter\\"><span style=\\"font-size\: small\; \\"><span style=\\"font-family\: Verdana\; \\">szeretettel megh&iacute\;vja &Ouml\;nt &eacute\;s Bar&aacute\;tait</span></span></p>
 <p class=\\"rtecenter\\"><span style=\\"font-size\: medium\; \\"><strong><span style=\\"font-family\: Verdana\; \\">HARANGOZ&Oacute\; MIKL&Oacute\;S</span></strong></span><span style=\\"font-size\: small\; \\"><span style=\\"font-family\: Verdana\; \\"><br />
 festőműv&eacute\;sz</span></span></p>
 <p class=\\"rtecenter\\"><em><strong><span style=\\"font-size\: small\; \\"><span style=\\"font-family\: Verdana\; \\">&quot\;Term&eacute\;szet sz&eacute\;ps&eacute\;ge fel&uuml\;lm&uacute\;lhatatlan&quot\;</span></span></strong></em><span style=\\"font-size\: small\; \\"><span style=\\"font-family\: Verdana\; \\"><br />
 c&iacute\;mű ki&aacute\;ll&iacute\;t&aacute\;s megnyit&oacute\;j&aacute\;ra</span></span></p>
 <p class=\\"rtecenter\\"><strong><span style=\\"font-size\: small\; \\"><span style=\\"font-family\: Verdana\; \\">2010. okt&oacute\;ber 28</span></span></strong><span style=\\"font-size\: small\; \\"><span style=\\"font-family\: Verdana\; \\">-&aacute\;n (cs&uuml\;t&ouml\;rt&ouml\;k) <strong>16.00</strong> &oacute\;r&aacute\;ra<br />
 a k&ouml\;nyvt&aacute\;r első emeleti <strong>Műv&eacute\;szeti Szalon</strong>j&aacute\;ba<br />
 (Szolnok\, Kossuth t&eacute\;r 2.)</span></span></p>
 <p class=\\"rtecenter\\"><span style=\\"font-size\: small\; \\"><span style=\\"font-family\: Verdana\; \\">Bar&aacute\;tai &eacute\;s k&ouml\;z&ouml\;ns&eacute\;ge ezen ki&aacute\;ll&iacute\;t&aacute\;ssal k&iacute\;v&aacute\;n<br />
 tisztelegni a festőműv&eacute\;sz előtt.<br type=\\"_moz\\" />
 </span></span></p>
 <p class=\\"rtecenter\\"><span style=\\"font-size\: small\; \\"><span style=\\"font-family\: Verdana\; \\">A festőműv&eacute\;sz k&eacute\;peit elrendezte &eacute\;s a ki&aacute\;ll&iacute\;t&aacute\;st megnyitja</span></span></p>
 <p class=\\"rtecenter\\"><em><strong><span style=\\"font-size\: small\; \\"><span style=\\"font-family\: Verdana\; \\">Hunya Zolt&aacute\;n</span></span></strong></em></p>
 <p class=\\"rtecenter\\"><span style=\\"font-size\: small\; \\"><span style=\\"font-family\: Verdana\; \\">A műv&eacute\;szt k&ouml\;sz&ouml\;nti</span></span></p>
 <p class=\\"rtecenter\\"><em><strong><span style=\\"font-size\: small\; \\"><span style=\\"font-family\: Verdana\; \\">Szab&oacute\; Istv&aacute\;n</span></span></strong></em><span style=\\"font-size\: small\; \\"><span style=\\"font-family\: Verdana\; \\"><br />
 Szolnok Megyei Jog&uacute\; V&aacute\;ros<br />
 alpolg&aacute\;rmestere<br />
 &eacute\;s</span></span></p>
 <p class=\\"rtecenter\\"><em><strong><span style=\\"font-size\: small\; \\"><span style=\\"font-family\: Verdana\; \\">Bertalann&eacute\; Kov&aacute\;cs Piroska</span></span></strong></em><span style=\\"font-size\: small\; \\"><span style=\\"font-family\: Verdana\; \\"><br />
 Verseghy Ferenc K&ouml\;nyvt&aacute\;r &eacute\;s Művelőd&eacute\;si Int&eacute\;zet igazgat&oacute\;ja</span></span></p>
 <p class=\\"rtecenter\\"><span style=\\"font-size\: small\; \\"><span style=\\"font-family\: Verdana\; \\">A ki&aacute\;ll&iacute\;t&aacute\;s megtekinthető\:<br />
 2010. december 5-ig<br />
 a k&ouml\;nyvt&aacute\;r nyitvatart&aacute\;si idej&eacute\;ben.</span></span></p>
END:VEVENT
END:VCALENDAR
